BEGIN:VCALENDAR
VERSION:2.0
PRODID:-//wp-events-plugin.com//6.3//EN
TZID:Europe/Berlin
X-WR-TIMEZONE:Europe/Berlin
BEGIN:VEVENT
UID:93@asv-loh.de
DTSTART;TZID=Europe/Berlin;VALUE=DATE:20260711
DTEND;TZID=Europe/Berlin;VALUE=DATE:20260712
DTSTAMP:20260416T193027Z
URL:https://www.asv-loh.de/veranstaltungen/herbstwanderung-2023/
SUMMARY:Sommerwanderung 2026
DESCRIPTION:
CATEGORIES:Ski - Familienfahrt,Ski - Tagesfahrt
LOCATION:Raiffeisenbank Auerbach (Treffpunkt)\, Josef-Klämpfl-Straße 3\, 
 Auerbach\, 94530\, Deutschland
X-APPLE-STRUCTURED-LOCATION;VALUE=URI;X-ADDRESS=Josef-Klämpfl-Straße 3\, 
 Auerbach\, 94530\, Deutschland;X-APPLE-RADIUS=100;X-TITLE=Raiffeisenbank A
 uerbach (Treffpunkt):geo:0,0
END:VEVENT
BEGIN:VTIMEZONE
TZID:Europe/Berlin
X-LIC-LOCATION:Europe/Berlin
BEGIN:DAYLIGHT
DTSTART:20260329T030000
TZOFFSETFROM:+0100
TZOFFSETTO:+0200
TZNAME:CEST
END:DAYLIGHT
END:VTIMEZONE
END:VCALENDAR