BEGIN:VCALENDAR
VERSION:2.0
PRODID:-//wp-events-plugin.com//6.3//EN
TZID:Europe/Berlin
X-WR-TIMEZONE:Europe/Berlin
BEGIN:VEVENT
UID:146@asv-loh.de
DTSTART;TZID=Europe/Berlin;VALUE=DATE:20260828
DTEND;TZID=Europe/Berlin;VALUE=DATE:20260831
DTSTAMP:20260416T190956Z
URL:https://www.asv-loh.de/veranstaltungen/asv-loh-sommercamp-2026/
SUMMARY:ASV Loh Sommercamp 2026
DESCRIPTION:
LOCATION:BLSV Sportcamp Regen\, Raithmühle 2 \, Regen\, 94209 \, Deutschla
 nd
X-APPLE-STRUCTURED-LOCATION;VALUE=URI;X-ADDRESS=Raithmühle 2 \, Regen\, 94
 209 \, Deutschland;X-APPLE-RADIUS=100;X-TITLE=BLSV Sportcamp Regen:geo:0,0
END:VEVENT
BEGIN:VTIMEZONE
TZID:Europe/Berlin
X-LIC-LOCATION:Europe/Berlin
BEGIN:DAYLIGHT
DTSTART:20260329T030000
TZOFFSETFROM:+0100
TZOFFSETTO:+0200
TZNAME:CEST
END:DAYLIGHT
END:VTIMEZONE
END:VCALENDAR